BEGIN:VCALENDAR
VERSION:2.0
PRODID:-//peaceCENTER - ECPv4.6.13//NONSGML v1.0//EN
CALSCALE:GREGORIAN
METHOD:PUBLISH
X-WR-CALNAME:peaceCENTER
X-ORIGINAL-URL:http://www.sanantoniopeace.center
X-WR-CALDESC:Events for peaceCENTER
BEGIN:VEVENT
DTSTART;TZID=America/Chicago:20160121T173000
DTEND;TZID=America/Chicago:20160123T163000
DTSTAMP:20260425T134347
CREATED:20151125T141632Z
LAST-MODIFIED:20151203T224108Z
UID:5244-1453397400-1453566600@www.sanantoniopeace.center
SUMMARY:Listening for a Change: Sacred Conversations for Racial Justice @ Oblate
DESCRIPTION: \n
URL:http://www.sanantoniopeace.center/event/listening-for-a-change-sacred-conversations-for-racial-justice-oblate/
LOCATION:285 Oblate Dr.\, San Antonio\, TX\, 78216\, United States
CATEGORIES:peaceCENTER
END:VEVENT
END:VCALENDAR