BEGIN:VCALENDAR
VERSION:2.0
PRODID:-//peaceCENTER - ECPv4.6.13//NONSGML v1.0//EN
CALSCALE:GREGORIAN
METHOD:PUBLISH
X-WR-CALNAME:peaceCENTER
X-ORIGINAL-URL:http://www.sanantoniopeace.center
X-WR-CALDESC:Events for peaceCENTER
BEGIN:VEVENT
DTSTART;TZID=America/Chicago:20141204T043000
DTEND;TZID=America/Chicago:20141204T173000
DTSTAMP:20260425T172422
CREATED:20141122T221319Z
LAST-MODIFIED:20141122T221319Z
UID:1297-1417667400-1417714200@www.sanantoniopeace.center
SUMMARY:LiNK: Liberty in North Korea presentation
DESCRIPTION: \nLiNK: Liberty in North Korea will come to UIW\, and solve all your curiosity about North Korea. North Korea is the most oppressive country in the world\, but change is happening at the grassroots level. This tour will focus on one of the most significant trends emerging today.This is your chance to hear our North Korean peers describe what’s happening in their country and learn how we can help. This event is intended for students\, but the public is invited to attend and learn.\n \n
URL:http://www.sanantoniopeace.center/event/link-liberty-in-north-korea-presentation/
LOCATION:4301 Broadway\, San Antonio\, TX\, 78209\, United States
END:VEVENT
END:VCALENDAR