BEGIN:VCALENDAR
VERSION:2.0
PRODID:-//peaceCENTER - ECPv4.6.13//NONSGML v1.0//EN
CALSCALE:GREGORIAN
METHOD:PUBLISH
X-WR-CALNAME:peaceCENTER
X-ORIGINAL-URL:http://www.sanantoniopeace.center
X-WR-CALDESC:Events for peaceCENTER
BEGIN:VEVENT
DTSTART;TZID=America/Chicago:20150509T150000
DTEND;TZID=America/Chicago:20150509T160000
DTSTAMP:20260425T013354
CREATED:20150430T173004Z
LAST-MODIFIED:20150430T173004Z
UID:2872-1431183600-1431187200@www.sanantoniopeace.center
SUMMARY:Lecture/Panel: The High Line /  San Pedro Creek Park @ SAMA
DESCRIPTION:Robert Hammond\, Executive Director of Friends of The High Line and native of San Antonio\, helped turn an abandoned freight line above the streets of Manhattan’s West Side into The High Line\, New York City’s preeminent linear park. Hammond’s lecture on reimagining the use of public infrastructure will be followed by a panel discussion on San Pedro Creek Culture Park\, currently one of the most important urban planning projects in the nation. \nFree with Admission to San Antonio Museum of Art. \n
URL:http://www.sanantoniopeace.center/event/lecturepanel-the-high-line-san-pedro-creek-park-sama/
LOCATION:200 W.  Jones Ave\, San Antonio\, TX\, 78215\, United States
END:VEVENT
END:VCALENDAR