BEGIN:VCALENDAR
VERSION:2.0
PRODID:-//peaceCENTER - ECPv4.6.13//NONSGML v1.0//EN
CALSCALE:GREGORIAN
METHOD:PUBLISH
X-WR-CALNAME:peaceCENTER
X-ORIGINAL-URL:http://www.sanantoniopeace.center
X-WR-CALDESC:Events for peaceCENTER
BEGIN:VEVENT
DTSTART;TZID=America/Chicago:20170206T120000
DTEND;TZID=America/Chicago:20170206T130000
DTSTAMP:20260425T112411
CREATED:20170201T173602Z
LAST-MODIFIED:20170201T173602Z
UID:9687-1486382400-1486386000@www.sanantoniopeace.center
SUMMARY:Lecture: The Science and Practice of Mindfulness
DESCRIPTION:The Stewart and Marianne Reuter Medical Humanities and Ethics Grand Rounds\, Presented by Carl Fulwiler\, MD\, PhD\nREGISTER ONLINE (it’s free)\nSchool of Medicine Room 309L \n \n
URL:http://www.sanantoniopeace.center/event/lecture-the-science-and-practice-of-mindfulness/
LOCATION:7793 Floyd Curl Dr.\, San Antonio\, TX\, 78228\, United States
CATEGORIES:Other
END:VEVENT
END:VCALENDAR