BEGIN:VCALENDAR
VERSION:2.0
PRODID:-//peaceCENTER - ECPv4.6.13//NONSGML v1.0//EN
CALSCALE:GREGORIAN
METHOD:PUBLISH
X-WR-CALNAME:peaceCENTER
X-ORIGINAL-URL:http://www.sanantoniopeace.center
X-WR-CALDESC:Events for peaceCENTER
BEGIN:VEVENT
DTSTART;TZID=America/Chicago:20150212T120000
DTEND;TZID=America/Chicago:20150212T130000
DTSTAMP:20260425T135441
CREATED:20150203T154748Z
LAST-MODIFIED:20150203T154748Z
UID:2259-1423742400-1423746000@www.sanantoniopeace.center
SUMMARY:Lecture: Prison Boom in Rural Towns @ UTSA Downtown
DESCRIPTION:The UTSA Department of Demography\, housed in the College of Public Policy\, will host a lecture by sociologist John Eason on the economic consequences of the rural prison development boom at noon on Thursday\, Feb. 12 in Frio Street Building Room 1.402 at the UTSA Downtown Campus. The event\, presented as part of the department’s annual lecture series\, is free and open to the public. \nEason is an assistant professor in the department of sociology at Texas A&M University. His areas of interest include crime\, race\, rural sociology\, sociology of punishment and urban sociology. \nHis research links race\, punishment and spatial inequality to community processes and the political economy. Centering on the emergence of the rural ghetto\, Eason has forged a new conceptual model of neighborhood disadvantage across rural and urban spaces. \nEason received his Ph.D. from the University of Chicago. He earned the Rural Sociological Society’s 2012 Young Scholar Award while teaching at the School Criminology and Criminal Justice at Arizona State University. He also served as a political organizer\, most notably for then-Illinois State Senator Barack Obama. To learn more about Dr. John Eason\, you can visit his website www.johneason.com \nThe Demography Lecture Series brings academics and practitioners of the social sciences to UTSA to speak about topics including human population\, social trends and innovations in the field. \n——————————- \nThe UTSA Department of Demography provides training to increase students’ understanding of the size\, distribution\, composition and growth of human populations. For more information\, visit copp.utsa.edu/department/about-us_dem. \nFor more information about the lecture\, visit copp.utsa.edu or contact the UTSA Department of Demography at 210-458-3163. \n
URL:http://www.sanantoniopeace.center/event/lecture-prison-boom-in-rural-towns-utsa-downtown/
LOCATION:501 E. Cesar E. Chavez Blvd.\, San Antonio\, TX\, 78207\, United States
END:VEVENT
END:VCALENDAR