BEGIN:VCALENDAR
VERSION:2.0
PRODID:-//peaceCENTER - ECPv4.6.13//NONSGML v1.0//EN
CALSCALE:GREGORIAN
METHOD:PUBLISH
X-WR-CALNAME:peaceCENTER
X-ORIGINAL-URL:http://www.sanantoniopeace.center
X-WR-CALDESC:Events for peaceCENTER
BEGIN:VEVENT
DTSTART;TZID=America/Chicago:20160427T170000
DTEND;TZID=America/Chicago:20160427T190000
DTSTAMP:20260425T151925
CREATED:20160424T230920Z
LAST-MODIFIED:20160424T230920Z
UID:6841-1461776400-1461783600@www.sanantoniopeace.center
SUMMARY:Lecture: Jonathan Shay\, “Moral Injury”
DESCRIPTION:Jonathan Shay\, “Moral Injury.” Dr. Shay\, author of Achilles in Vietnam\, will discuss moral injury as a more effective way of understanding post-traumatic stress disorder. Dr. Shay is a former psychiatrist for the Department of Veterans’ Affairs and recipient of the MacArthur Genius Grant. He is currently an independent scholar writing and lecturing on the complex approaches needed to understand the psychological impact of war. Sponsored by the University of the Incarnate Word College of Humanities\, Arts\, and Social Sciences. Luella Bennack Music Center 103\, University of the Incarnate Word. Address questions to Zenon Culverhouse: fculver@uiwtx.edu.  \n
URL:http://www.sanantoniopeace.center/event/lecture-jonathan-shay-moral-injury/
LOCATION:4301 Broadway\, San Antonio\, TX\, 78209\, United States
CATEGORIES:Other
ORGANIZER;CN="University%20of%20the%20Incarnate%20Word%20College%20of%20Humanities%2C%20Arts%2C%20and%20Social%20Sciences":MAILTO:Zenon Culverhouse: fculver@uiwtx.edu
END:VEVENT
END:VCALENDAR