BEGIN:VCALENDAR
VERSION:2.0
PRODID:-//peaceCENTER - ECPv4.6.13//NONSGML v1.0//EN
CALSCALE:GREGORIAN
METHOD:PUBLISH
X-WR-CALNAME:peaceCENTER
X-ORIGINAL-URL:http://www.sanantoniopeace.center
X-WR-CALDESC:Events for peaceCENTER
BEGIN:VEVENT
DTSTART;TZID=America/Chicago:20151117T193000
DTEND;TZID=America/Chicago:20151117T210000
DTSTAMP:20260425T133152
CREATED:20151115T124531Z
LAST-MODIFIED:20151115T124531Z
UID:5104-1447788600-1447794000@www.sanantoniopeace.center
SUMMARY:Lecture: Historian Andrew Bacevich @ Trinity
DESCRIPTION:\nHistorian Andrew Bacevich will share his insights on the intersection of political\, military\, and economic crises in the United States as part of the Maverick Lecture Series. His new book\, Breach of Trust: How Americans Failed Their Soldiers and Their Country\, is a blistering critique of the gulf between America’s soldiers and the society that sends them off to war. Bacevich’s bestseller\, Washington Rules\, is a critique of the country’s military industrial complex. Bacevich is a professor of International Relations and History at Boston University; he previously taught at Johns Hopkins University and at the United States Military Academy at West Point\, where he graduated in 1969. He holds a doctorate in American diplomatic history from Princeton. With the U.S. Army\, he served during the Vietnam War\, and has held posts in Germany and the Persian Gulf. He retired as a colonel in the early 1990s. —– \nThe Maverick Lecture Series is made possible by the William and Salomé Scanlan Foundation. For more information\, contact Trinity’s Office of University Marketing and Communications at 210-999-8406. The event is free and open to the public. \n\n
URL:http://www.sanantoniopeace.center/event/lecture-historian-andrew-bacevich-trinity/
LOCATION:One Trinity Place\, San Antonio\, TX\, 78212\, United States
END:VEVENT
END:VCALENDAR