BEGIN:VCALENDAR
VERSION:2.0
PRODID:-//peaceCENTER - ECPv4.6.13//NONSGML v1.0//EN
CALSCALE:GREGORIAN
METHOD:PUBLISH
X-WR-CALNAME:peaceCENTER
X-ORIGINAL-URL:http://www.sanantoniopeace.center
X-WR-CALDESC:Events for peaceCENTER
BEGIN:VEVENT
DTSTART;TZID=America/Chicago:20150212T180000
DTEND;TZID=America/Chicago:20150212T193000
DTSTAMP:20260425T150034
CREATED:20150203T170011Z
LAST-MODIFIED:20150203T170011Z
UID:2277-1423764000-1423769400@www.sanantoniopeace.center
SUMMARY:Lecture: Giving Voice to Values: The "How" of Values-driven Leadership
DESCRIPTION:The Bill Greehey School of Business invites you to a lecture by Mary Gentile\, Ph.D.   \n“Giving Voice to Values: The “How” of Values-driven Leadership” \nMary Gentile\, a senior research scholar at Babson College in Massachusetts\, is the founding director of Giving Voice to Values\, the internationally acclaimed business curriculum that helps individuals better voice and act on their values. Her pioneering approach to values-driven leadership has been featured in top-tier academic journals and piloted in more than 485 business schools and organizations globally. \nThis event is free and open to the public.  \n
URL:http://www.sanantoniopeace.center/event/lecture-giving-voice-to-values-the-how-of-values-driven-leadership/
LOCATION:1 Camino Santa Maria\, San Antonio\, TX\, 78228\, United States
ORGANIZER;CN="Bill%20Greehey%20School%20of%20Business%20%20%2F%20Priscilla%20Dethmann":MAILTO:pdethmann@stmarytx.edu
END:VEVENT
END:VCALENDAR