BEGIN:VCALENDAR
VERSION:2.0
PRODID:-//peaceCENTER - ECPv4.6.13//NONSGML v1.0//EN
CALSCALE:GREGORIAN
METHOD:PUBLISH
X-WR-CALNAME:peaceCENTER
X-ORIGINAL-URL:http://www.sanantoniopeace.center
X-WR-CALDESC:Events for peaceCENTER
BEGIN:VEVENT
DTSTART;TZID=America/Chicago:20161020T190000
DTEND;TZID=America/Chicago:20161020T210000
DTSTAMP:20260425T163646
CREATED:20160908T144611Z
LAST-MODIFIED:20160908T144611Z
UID:8612-1476990000-1476997200@www.sanantoniopeace.center
SUMMARY:Lecture -- "Get Smart: Understanding How the CIA Works with Hollywood"  @TrinityU
DESCRIPTION:<em>Chapman Center 142 – Great Hall (Directions: From East Hildebrand Avenue\, turn South onto Shook Avenue. Take the first left onto East Rosewood Avenue. Chapman Center is at the end of the street behind the fountain. Parking is available in lots around Chapman and Halsell buildings.)</em> \nTricia Jenkins is an associate professor at Texas Christian University. She is the author of <strong>The CIA in Hollywood: How the Agency Shapes Film and Television</strong>\, published by the University of Texas Press in 2012\, with a revised and updated edition released in 2016. Her book has been translated into Farsi\, Turkish\, and Chinese\, and her work has been featured by NPR\, FOX\, The Washington Post\, The Los Angeles Times\, The Los Angeles Review of Books\, La Vanguardia\,PRI: The World\, The Christian Science Monitor\, and more. \nHer lecture is titled “Get Smart: Understanding How the CIA Works with Hollywood.” Jenkins will discuss the trend toward positive representations of the Central Intelligence Agency in American popular culture. Jenkins argues that the CIA forged connections with the entertainment industry in the 1990s\, actively influencing the ways that its image is portrayed. \n
URL:http://www.sanantoniopeace.center/event/lecture-get-smart-understanding-how-the-cia-works-with-hollywood-trinityu/
LOCATION:One Trinity Place\, San Antonio\, TX\, 78212\, United States
CATEGORIES:Other
END:VEVENT
END:VCALENDAR