BEGIN:VCALENDAR
VERSION:2.0
PRODID:-//peaceCENTER - ECPv4.6.13//NONSGML v1.0//EN
CALSCALE:GREGORIAN
METHOD:PUBLISH
X-WR-CALNAME:peaceCENTER
X-ORIGINAL-URL:http://www.sanantoniopeace.center
X-WR-CALDESC:Events for peaceCENTER
BEGIN:VEVENT
DTSTART;TZID=America/Chicago:20151022T180000
DTEND;TZID=America/Chicago:20151022T190000
DTSTAMP:20260425T102822
CREATED:20151021T072912Z
LAST-MODIFIED:20151021T072912Z
UID:4517-1445536800-1445540400@www.sanantoniopeace.center
SUMMARY:Last Lecture: The Power of Listening @ UTSA
DESCRIPTION: \n
URL:http://www.sanantoniopeace.center/event/last-lecture-the-power-of-listening-utsa/
LOCATION:One UTSA Circle\, San Antonio\, TX\, United States
END:VEVENT
END:VCALENDAR