BEGIN:VCALENDAR
VERSION:2.0
PRODID:-//peaceCENTER - ECPv4.6.13//NONSGML v1.0//EN
CALSCALE:GREGORIAN
METHOD:PUBLISH
X-WR-CALNAME:peaceCENTER
X-ORIGINAL-URL:http://www.sanantoniopeace.center
X-WR-CALDESC:Events for peaceCENTER
BEGIN:VEVENT
DTSTART;TZID=America/Chicago:20151222T180000
DTEND;TZID=America/Chicago:20151222T200000
DTSTAMP:20260425T111931
CREATED:20151218T195236Z
LAST-MODIFIED:20151218T195236Z
UID:5775-1450807200-1450814400@www.sanantoniopeace.center
SUMMARY:Labor Against the War
DESCRIPTION:Alan Maki is meeting with local labor activists next week to discuss labor against the war. He is a long time anti-war\, civil rights and labor activist. He is currently a member of UNITE HERE Local 17 out of Minneapolis. Unionists for peace join us at Tycoon Flats\, 2926 N. St. Mary’s\, 6 pm\, 12/22. \n
URL:http://www.sanantoniopeace.center/event/labor-against-the-war/
LOCATION:2926 N. St. Mary's\, San Antonio\, TX\, United States
END:VEVENT
END:VCALENDAR