BEGIN:VCALENDAR
VERSION:2.0
PRODID:-//peaceCENTER - ECPv4.6.13//NONSGML v1.0//EN
CALSCALE:GREGORIAN
METHOD:PUBLISH
X-WR-CALNAME:peaceCENTER
X-ORIGINAL-URL:http://www.sanantoniopeace.center
X-WR-CALDESC:Events for peaceCENTER
BEGIN:VEVENT
DTSTART;TZID=America/Chicago:20160924T180000
DTEND;TZID=America/Chicago:20160924T220000
DTSTAMP:20260425T153930
CREATED:20160830T160832Z
LAST-MODIFIED:20160831T000546Z
UID:8533-1474740000-1474754400@www.sanantoniopeace.center
SUMMARY:Activism in America: An Evening With Hassan Shibly & Zahra Billoo
DESCRIPTION: \nHistorically\, minorities in America have had to overcome institutionalized racism\, bigotry\, and xenophobia before creating a legitimate space for themselves within American society. Currently\, Muslims in America are facing this same challenge. The minority communities that were able to overcome this challenge did so by confidently working for social progress while empowered by knowledge of their constitutional civil rights. \nJoin us on Saturday September 24 from 6 PM for “Activism in America.” We will be hosting two of the leading national Muslim civil rights advocates\, Hassan Shibly of CAIR-Florida\, & Zahra Billoo of CAIR-San Fransisco. \n
URL:http://www.sanantoniopeace.center/event/know-your-rights-an-evening-with-hassan-shibly-zahra-billoo/
LOCATION:5281 Casa Bella\, San Antonio\, TX\, 78249\, United States
CATEGORIES:Other
END:VEVENT
END:VCALENDAR