BEGIN:VCALENDAR
VERSION:2.0
PRODID:-//peaceCENTER - ECPv4.6.13//NONSGML v1.0//EN
CALSCALE:GREGORIAN
METHOD:PUBLISH
X-WR-CALNAME:peaceCENTER
X-ORIGINAL-URL:http://www.sanantoniopeace.center
X-WR-CALDESC:Events for peaceCENTER
BEGIN:VEVENT
DTSTART;TZID=America/Chicago:20150205T110000
DTEND;TZID=America/Chicago:20150205T120000
DTSTAMP:20260425T151947
CREATED:20141226T173121Z
LAST-MODIFIED:20141226T173121Z
UID:1841-1423134000-1423137600@www.sanantoniopeace.center
SUMMARY:Julian Bond @ St. Philip's College!
DESCRIPTION:From his college days as a founder of the Student Nonviolent Coordinating Committee (SNCC) to his role as former Chairman of the National Association for the Advancement of Colored People (NAACP)\, Julian Bond has been an active participant in the movements for civil rights\, economic justice\, and peace and an aggressive spokesman for the disinherited. \nThe St. Philip’s College President’s Lecture Series provides opportunities for the college and the community to hear speakers’ perspectives on a broad range of local\, regional\, national and international issues. The lectures are provided at no cost to the audience and are designed to attract students\, faculty\, and staff as well as the greater San Antonio Community. \n
URL:http://www.sanantoniopeace.center/event/julian-bond-st-philips-college/
LOCATION:1801 Martin Luther King Drive\, San Antonio\, TX\, 78203\, United States
END:VEVENT
END:VCALENDAR