BEGIN:VCALENDAR
VERSION:2.0
PRODID:-//peaceCENTER - ECPv4.6.13//NONSGML v1.0//EN
CALSCALE:GREGORIAN
METHOD:PUBLISH
X-WR-CALNAME:peaceCENTER
X-ORIGINAL-URL:http://www.sanantoniopeace.center
X-WR-CALDESC:Events for peaceCENTER
BEGIN:VEVENT
DTSTART;TZID=America/Chicago:20151003T143000
DTEND;TZID=America/Chicago:20151003T170000
DTSTAMP:20260425T030840
CREATED:20150807T074931Z
LAST-MODIFIED:20150807T074931Z
UID:3804-1443882600-1443891600@www.sanantoniopeace.center
SUMMARY:Jewish Voice for Peace San Antonio screening of "5 Broken Cameras"
DESCRIPTION: \nThe San Antonio chapter of Jewish Voice for Peace presents a film screening of the acclaimed documentary “5 Broken Cameras” followed by a discussion. The event is free and open to the public. \n  \nThe first-ever Palestinian film to be nominated for best Documentary Feature by A.M.P.A.S®\, the critically-acclaimed 5 BROKEN CAMERAS is a deeply personal\, first-hand account of life and non-violent resistance in Bil’in\, a West Bank village surrounded by Israeli settlements. Shot by Palestinian farmer Emad Burnat\, who bought his first camera in 2005 to record the birth of his youngest son\, Gibreel\, the film was co-directed by Burnat and Guy Davidi\, an Israeli filmmaker. Structured in chapters around the destruction of each one of Burnat’s cameras\, the filmmakers’ collaboration follows one family’s evolution over five years of village upheaval. As the years pass in front of the camera\, we witness Gibreel grow from a newborn baby into a young boy who observes the world unfolding around him with the astute powers of perception that only children possess.  Burnat watches from behind the lens as olive trees are bulldozed\, protests intensify and lives are lost in this cinematic diary and unparalleled record of life in the West Bank. 5 BROKEN CAMERAS is a Palestinian-Israeli-French co-production. \n
URL:http://www.sanantoniopeace.center/event/jewish-voice-for-peace-san-antonio-screening-of-5-broken-cameras/
LOCATION:600 Soledad\, San Antonio\, TX\, 78205\, United States
END:VEVENT
END:VCALENDAR