BEGIN:VCALENDAR
VERSION:2.0
PRODID:-//peaceCENTER - ECPv4.6.13//NONSGML v1.0//EN
CALSCALE:GREGORIAN
METHOD:PUBLISH
X-WR-CALNAME:peaceCENTER
X-ORIGINAL-URL:http://www.sanantoniopeace.center
X-WR-CALDESC:Events for peaceCENTER
BEGIN:VEVENT
DTSTART;TZID=America/Chicago:20150609T180000
DTEND;TZID=America/Chicago:20150609T200000
DTSTAMP:20260425T030838
CREATED:20150224T003559Z
LAST-MODIFIED:20150224T003559Z
UID:2543-1433872800-1433880000@www.sanantoniopeace.center
SUMMARY:Is My Mind Mine? The Ethical\, Social\, and Legal Challenges of Modern Neuroscience
DESCRIPTION:Registration required \nFor the first time in human history\, we are developing the ability to apprehend information directly from the brain. Brain imaging and allied technologies now allow scientists a glimpse into the subjective thoughts and inner dialogues that have always been private and inaccessible to others. By doing so\, they are forever changing the very idea of privacy\, raising thorny questions about who should have access to our innermost thoughts. In this talk\, we explore the implications of brain imaging not only for personal privacy\, but also for legal questions such as Fifth Amendment protections. \n\nDo we have an absolute or relative right to cognitive privacy? Forensics\, Security\, Civil\, School\, Parental — for what and on whom will it be used?\n\n\nWill we allow covert use? Who will assume what roles in deciding if the technology is accurate\, safe\, proper? Courts\, legislature\, psychologists\, legal scholars\, ethicists?\n\n\nWhat do we mean by “normal brains ” as we manipulate and alter our brain chemistry? How might we expand our ideas of brain function as we integrate information technology into our neural circuitry?\n\n\nHow much are we willing to change our ways of thought\, feeling\, and perceiving? How do we balance ideals of selfhood from ethics\, religion\, and cultural traditions with ideas of progress and individual liberty?\n\nWill the new neurotechnologies threaten our current conceptions of selfhood\, relationship?\nThis workshop has been approved for continuing education credits for LPC\, LMFT\, Social Workers and School Counselors. CME and CNE continuing education is currently under review. \nPaul Root Wolpe\, Ph.D. is the Asa Griggs Candler Professor of Bioethics\, Raymond Schinazi Distinguished Research Professor of Jewish Bioethics\, Professor of Medicine\, Pediatrics\, Psychiatry\, and Sociology\, and the Director of the Center for Ethics at Emory University. Dr. Wolpe is also the Senior Bioethicist at the National Aeronautics and Space Administration (NASA). He is Co-Editor of the American Journal of Bioethics (AJOB)\, the premier scholarly journal in bioethics\, and Editor-in-Chief of AJOB-Neuroscience\, and sits on the editorial boards of over a dozen professional journals. He is a past President of the American Society for Bioethics and Humanities\, a Fellow of the Hastings Center\, and a Fellow of the College of Physicians of Philadelphia\, the country’s oldest medical society. Dr. Wolpe’s work focuses on the social\, religious\, and ideological impact of biotechnology on the human condition. He sits on many national and international non-profit organizational boards\, and consults for academic institutions and the biomedical industry. Dr. Wolpe won the 2011 World Technology Network Award in Ethics\, has recorded a TED Talk\, was named one of Trust Across America’s Top 100 Thought Leaders in Trustworthy Business Behavior\, and was profiled in the November\, 2011 Atlantic Magazine as a “Brave Thinker of 2011.” Chosen by The Teaching Company as a “Superstar Teacher of America\,” Dr. Wolpe is a frequent contributor and commentator in both the broadcast and print media\, recently featured on 60 Minutes and with a personal profile in the Science Times of the New York Times. – See more at: http://www.ecrh.org/education/community-collaborations/my-mind-mine/?eID=270&utm_source=Sandtray+2015&utm_campaign=Dalrymple+2015&utm_medium=email#sthash.S3sLpuDT.dpuf \n
URL:http://www.sanantoniopeace.center/event/is-my-mind-mine-the-ethical-social-and-legal-challenges-of-modern-neuroscience/
LOCATION:7703 Floyd Curl Dr\, San Antonio\, TX\, 78229\, United States
END:VEVENT
END:VCALENDAR