BEGIN:VCALENDAR
VERSION:2.0
PRODID:-//peaceCENTER - ECPv4.6.13//NONSGML v1.0//EN
CALSCALE:GREGORIAN
METHOD:PUBLISH
X-WR-CALNAME:peaceCENTER
X-ORIGINAL-URL:http://www.sanantoniopeace.center
X-WR-CALDESC:Events for peaceCENTER
BEGIN:VEVENT
DTSTART;TZID=America/Chicago:20161114T180000
DTEND;TZID=America/Chicago:20161114T200000
DTSTAMP:20260425T145329
CREATED:20161016T111619Z
LAST-MODIFIED:20161016T111619Z
UID:8878-1479146400-1479153600@www.sanantoniopeace.center
SUMMARY:Interreligius Council 20th Birthday Party
DESCRIPTION: \nPlease arrive early with a photo ID to process building security.\nRSVP here by November 7 with the total number of guests in your party\n
URL:http://www.sanantoniopeace.center/event/interreligius-council-20th-birthday-party/
LOCATION:12500 N.W. Military Drive\, San Antonio\, TX\, 78231\, United States
CATEGORIES:Other
END:VEVENT
END:VCALENDAR