BEGIN:VCALENDAR
VERSION:2.0
PRODID:-//peaceCENTER - ECPv4.6.13//NONSGML v1.0//EN
CALSCALE:GREGORIAN
METHOD:PUBLISH
X-WR-CALNAME:peaceCENTER
X-ORIGINAL-URL:http://www.sanantoniopeace.center
X-WR-CALDESC:Events for peaceCENTER
BEGIN:VEVENT
DTSTART;TZID=America/Chicago:20150309T180000
DTEND;TZID=America/Chicago:20150309T210000
DTSTAMP:20260425T123716
CREATED:20150212T040120Z
LAST-MODIFIED:20150212T040120Z
UID:2402-1425924000-1425934800@www.sanantoniopeace.center
SUMMARY:Interreligious Council: Religious Violence\, Myth or Reality?
DESCRIPTION:The Interreligious Council of San Antonio\nwill meet on Monday\, March 9 at 6:00 p.m.\nat 12500 N.W. Military Drive\nat the Campus for the San Antonio Community\nin the Federation Board Room on the upper level near the elevators \n\nOur program will be a discussion of Religious Violence.\nWe will base the discussion on\nIntroduction : Religious Violence Myth or Reality?\nA Symposium on William T. Cavanaugh’s The Myth of Religious Violence by James Bernard Murphy. \nGuests are welcome. Refreshments will be served at 6:00 p.m. \n\n
URL:http://www.sanantoniopeace.center/event/interreligious-council-religious-violence-myth-or-reality/
LOCATION:12500 N.W. Military Drive \, San Antonio\, TX\, United States
END:VEVENT
END:VCALENDAR