BEGIN:VCALENDAR
VERSION:2.0
PRODID:-//peaceCENTER - ECPv4.6.13//NONSGML v1.0//EN
CALSCALE:GREGORIAN
METHOD:PUBLISH
X-WR-CALNAME:peaceCENTER
X-ORIGINAL-URL:http://www.sanantoniopeace.center
X-WR-CALDESC:Events for peaceCENTER
BEGIN:VEVENT
DTSTART;TZID=America/Chicago:20160718T180000
DTEND;TZID=America/Chicago:20160718T200000
DTSTAMP:20260425T165844
CREATED:20160715T154746Z
LAST-MODIFIED:20160718T142046Z
UID:7966-1468864800-1468872000@www.sanantoniopeace.center
SUMMARY:Interreligious Council of San Antonio Monthly Meeting
DESCRIPTION:The next meeting of ICOSA will be on the 3rd Monday of the month\, on July 18. The topic will be “Near Death Experiences and the Afterlife\,” led by Betty Dabney. Location: 12500 N.W. Military Drive at the Campus for the San Antonio Community in the Federation Board Room on the upper level near the elevators. \nResource: Episode “Beyond Death” from the program “The Story of God with Morgan Freeman\,” on the National Geographic Channel: http://channel.nationalgeographic.com/the-story-of-god-with-morgan-freeman/interactives/journey-around-the-world-beyond-death/ \n
URL:http://www.sanantoniopeace.center/event/interreligious-council-of-san-antonio-monthly-meeting/
LOCATION:12500 N.W. Military Drive\, San Antonio\, TX\, 78231\, United States
CATEGORIES:Other
END:VEVENT
END:VCALENDAR