BEGIN:VCALENDAR
VERSION:2.0
PRODID:-//peaceCENTER - ECPv4.6.13//NONSGML v1.0//EN
CALSCALE:GREGORIAN
METHOD:PUBLISH
X-WR-CALNAME:peaceCENTER
X-ORIGINAL-URL:http://www.sanantoniopeace.center
X-WR-CALDESC:Events for peaceCENTER
BEGIN:VEVENT
DTSTART;TZID=America/Chicago:20160912T181500
DTEND;TZID=America/Chicago:20160912T194500
DTSTAMP:20260425T181828
CREATED:20160831T193934Z
LAST-MODIFIED:20160831T193934Z
UID:8549-1473704100-1473709500@www.sanantoniopeace.center
SUMMARY:Interreligious Council Monthly Meeting: Sikhism
DESCRIPTION:The next meeting of ICOSA will be on Monday\, September 12\, from 6:15 – 7:45 pm. We will have a guest speaker\, Ravjeet Singh\, who will present “The Sikh Religion and its Presence in San Antonio.” \nLocation of ICOSA meeting: 12500 N.W. Military Drive at the Campus for the San Antonio Community in the Federation Board Room on the upper level near the elevators. \nGuests are welcome to join the discussion. Refreshments will be served. \n
URL:http://www.sanantoniopeace.center/event/interreligious-council-monthly-meeting-sikhism/
LOCATION:12500 N.W. Military Drive\, San Antonio\, TX\, 78231\, United States
CATEGORIES:Other
END:VEVENT
END:VCALENDAR