BEGIN:VCALENDAR
VERSION:2.0
PRODID:-//peaceCENTER - ECPv4.6.13//NONSGML v1.0//EN
CALSCALE:GREGORIAN
METHOD:PUBLISH
X-WR-CALNAME:peaceCENTER
X-ORIGINAL-URL:http://www.sanantoniopeace.center
X-WR-CALDESC:Events for peaceCENTER
BEGIN:VEVENT
DTSTART;TZID=America/Chicago:20160509T180000
DTEND;TZID=America/Chicago:20160509T200000
DTSTAMP:20260425T124222
CREATED:20160420T195417Z
LAST-MODIFIED:20160420T195417Z
UID:6816-1462816800-1462824000@www.sanantoniopeace.center
SUMMARY:Interreligious Council: Jain Religion
DESCRIPTION:The Interreligious Council of San Antonio  will meet on Monday\, May 9 at 6:00 p.m.  at 12500 N.W. Military Drive  at the Campus for the San Antonio Community  in the Federation Board Room on the upper level near the elevators.  Ami Shah and Sonal Jain will speak to us about the Jain religion. Guests are welcome. Refreshments will be served at 6:00 p.m.\n
URL:http://www.sanantoniopeace.center/event/interreligious-council-jain-religion/
LOCATION:12500 N.W. Military Drive\, San Antonio\, TX\, 78231\, United States
CATEGORIES:Other
END:VEVENT
END:VCALENDAR