BEGIN:VCALENDAR
VERSION:2.0
PRODID:-//peaceCENTER - ECPv4.6.13//NONSGML v1.0//EN
CALSCALE:GREGORIAN
METHOD:PUBLISH
X-WR-CALNAME:peaceCENTER
X-ORIGINAL-URL:http://www.sanantoniopeace.center
X-WR-CALDESC:Events for peaceCENTER
BEGIN:VEVENT
DTSTART;TZID=America/Chicago:20150713T180000
DTEND;TZID=America/Chicago:20150713T200000
DTSTAMP:20260424T195608
CREATED:20150616T010948Z
LAST-MODIFIED:20150616T010948Z
UID:3337-1436810400-1436817600@www.sanantoniopeace.center
SUMMARY:Interreligious Council: Discussion on Anne Hutchinson. 17th Century Quaker
DESCRIPTION:The Interreligious Council of San Antonio will meet on Monday\, JULY 13 at 6:00 p.m. at 12500 N.W. Military Drive at the Campus for the San Antonio Community in the Federation Board Room on the upper level near the elevators. Our topic will be a discussion of Chapter 8: Anne Hutchinson from Deepak Chopra’s book: GOD: A Story of Revelation. Hutchinson was a key figure in the development of religious freedom in the American colonies and in the history of women in the ministry. Guests are welcome! \n \n
URL:http://www.sanantoniopeace.center/event/interreligious-council-discussion-on-anne-hutchinson-17th-century-quaker/
LOCATION:12500 N.W. Military Drive\, San Antonio\, TX\, United States
END:VEVENT
END:VCALENDAR