BEGIN:VCALENDAR
VERSION:2.0
PRODID:-//peaceCENTER - ECPv4.6.13//NONSGML v1.0//EN
CALSCALE:GREGORIAN
METHOD:PUBLISH
X-WR-CALNAME:peaceCENTER
X-ORIGINAL-URL:http://www.sanantoniopeace.center
X-WR-CALDESC:Events for peaceCENTER
BEGIN:VEVENT
DTSTART;TZID=America/Chicago:20160831T170000
DTEND;TZID=America/Chicago:20160831T193000
DTSTAMP:20260425T153806
CREATED:20160811T130342Z
LAST-MODIFIED:20160811T130342Z
UID:8350-1472662800-1472671800@www.sanantoniopeace.center
SUMMARY:International Overdose Awareness Day
DESCRIPTION:\nPlease join us for our first gathering in San Antonio on this International Overdose Awareness Day. We will be remembering those we’ve lost to overdose as well as providing awareness and prevention. If you’ve lost a loved one\, please join us. If you or someone you know is struggling with addiction\, please join us. We will provide information about available resources and the use of Naloxone for addiction. All are welcome to help us bring awareness to our community. You are invited to wear silver for remembrance. \n
URL:http://www.sanantoniopeace.center/event/international-overdose-awareness-day/
LOCATION:211 E. Travis\, San Antonio\, TX\, 78205\, United States
CATEGORIES:Other
END:VEVENT
END:VCALENDAR