BEGIN:VCALENDAR
VERSION:2.0
PRODID:-//peaceCENTER - ECPv4.6.13//NONSGML v1.0//EN
CALSCALE:GREGORIAN
METHOD:PUBLISH
X-WR-CALNAME:peaceCENTER
X-ORIGINAL-URL:http://www.sanantoniopeace.center
X-WR-CALDESC:Events for peaceCENTER
BEGIN:VEVENT
DTSTART;TZID=America/Chicago:20160921T170000
DTEND;TZID=America/Chicago:20160921T180000
DTSTAMP:20260425T163148
CREATED:20160914T095216Z
LAST-MODIFIED:20160914T095216Z
UID:8685-1474477200-1474480800@www.sanantoniopeace.center
SUMMARY:International Day for Peace @StMaryU
DESCRIPTION:The International Day for Peace\, a.k.a World Peace Day\, is a day that is recognized across the world each Sept. 21.  The General Assembly of the United Nations declares this\, “as a day devoted to strengthening the ideals of peace\, both within and among all nations and peoples.” \nWhile the international theme for 2016\, as set by the General Assembly\, is “The Sustainable Development Goals: Building Blocks for Peace\,” it is my recommendation\, based on recent events\, that we spend the day upholding a call for peace amid national and international violence. \nIn this way\, St. Mary’s University will honor the events of the last year that continue to weigh on the hearts and minds of our community\, as well as uphold the call to an agenda for prosperity\, peace\, and partnership by the UN Secretary General\, Ban Ki-Moon. \nThe event will include a brief presentation\, a Peace Pole Dedication\, and remembrance for countries at war. \n
URL:http://www.sanantoniopeace.center/event/international-day-for-peace-stmaryu/
LOCATION:One Camino Santa Maria\, San Antonio\, TX\, 78228\, United States
CATEGORIES:Other
ORGANIZER;CN="Office%20of%20Faith%20and%20Justice%2C%20St.%20Mary%27s%20University":MAILTO:iquesnot@stmarytx.edu
END:VEVENT
END:VCALENDAR