BEGIN:VCALENDAR
VERSION:2.0
PRODID:-//peaceCENTER - ECPv4.6.13//NONSGML v1.0//EN
CALSCALE:GREGORIAN
METHOD:PUBLISH
X-WR-CALNAME:peaceCENTER
X-ORIGINAL-URL:http://www.sanantoniopeace.center
X-WR-CALDESC:Events for peaceCENTER
BEGIN:VEVENT
DTSTART;TZID=America/Chicago:20160416T180000
DTEND;TZID=America/Chicago:20160416T200000
DTSTAMP:20260425T132627
CREATED:20160331T201647Z
LAST-MODIFIED:20160331T201647Z
UID:6762-1460829600-1460836800@www.sanantoniopeace.center
SUMMARY:Interfaith Empathy Conference
DESCRIPTION:Join us as we try to understand and share the feelings of others in our community. Our esteemed panel of guests include:\nAaron Tyler\, PhD\nDr. Judith Norman\, PhD\nOmar Shakir\, Imam & Resident Chaplain\nDr. Scott Peters\, PhD \n
URL:http://www.sanantoniopeace.center/event/interfaith-empathy-conference/
LOCATION:5281 Casa Bella\, San Antonio\, TX\, 78249\, United States
END:VEVENT
END:VCALENDAR