BEGIN:VCALENDAR
VERSION:2.0
PRODID:-//peaceCENTER - ECPv4.6.13//NONSGML v1.0//EN
CALSCALE:GREGORIAN
METHOD:PUBLISH
X-WR-CALNAME:peaceCENTER
X-ORIGINAL-URL:http://www.sanantoniopeace.center
X-WR-CALDESC:Events for peaceCENTER
BEGIN:VEVENT
DTSTART;TZID=America/Chicago:20151203T184500
DTEND;TZID=America/Chicago:20151203T210000
DTSTAMP:20260425T112045
CREATED:20151121T224255Z
LAST-MODIFIED:20151202T230534Z
UID:5149-1449168300-1449176400@www.sanantoniopeace.center
SUMMARY:Interfaith Convergence for Climate Action
DESCRIPTION:Please join us at an\nInterfaith Convergence for Climate Action\nThursday\, December 3\, 2015 / 6:45pm\nEpiscopal Church of Reconciliation\nParish Hall\n8900 Starcrest Dr\, San Antonio\, TX 78217\n\n\nTalk with people at the UN Climate Change Conference (COP21) in Paris\nMeet leaders of different faiths\nDiscuss steps for action\n\n\nSponsored by San Antonio Interfaith Power & Light\nConnecting the wisdom of our diverse faith traditions to environmental care and justice\nwww.facebook.com/SanAntonioIPL\nContact: Diane Duesterhoeft\ndduesterhoeft@gmail.com\n\n
URL:http://www.sanantoniopeace.center/event/interfaith-convergence-for-climate-action/
LOCATION:8900 Starcrest\, San Antonio\, TX\, 78217\, United States
ORGANIZER;CN="San%20Antonio%20Interfaith%20Power%20%26%20Light":MAILTO:Diane Duesterhoeft  dduesterhoeft@gmail.com
END:VEVENT
END:VCALENDAR