BEGIN:VCALENDAR
VERSION:2.0
PRODID:-//peaceCENTER - ECPv4.6.13//NONSGML v1.0//EN
CALSCALE:GREGORIAN
METHOD:PUBLISH
X-WR-CALNAME:peaceCENTER
X-ORIGINAL-URL:http://www.sanantoniopeace.center
X-WR-CALDESC:Events for peaceCENTER
BEGIN:VEVENT
DTSTART;TZID=America/Chicago:20161213T183000
DTEND;TZID=America/Chicago:20161213T200000
DTSTAMP:20260425T111956
CREATED:20161118T030245Z
LAST-MODIFIED:20161118T030245Z
UID:9133-1481653800-1481659200@www.sanantoniopeace.center
SUMMARY:Interfaith Academy: Peace Movements
DESCRIPTION: \nInterfaith Academy\, a Faith Base Dialogue Education Program\, is a collaborative initiative that will be created by Synagogue\, Church\, Mosque\, Sikh Temple\, Buddhist Temple\, Hindu Temple\, other worship places and the Dialogue Institute to foster interfaith understanding/friendship among the society that we live in. \nThe Interfaith Academy is a truly interfaith dialogue effort\, paving the road for the participants\, Jews\, Christians\, Hindus\, Sikhs\, Baha’is\, Muslims\, Buddhists and others to be able to enter real engagement and peace-making through learning about the selected topics within their context and growing in their understanding of each other. \n
URL:http://www.sanantoniopeace.center/event/interfaith-academy-peace-movements/
LOCATION:4337 Vance Jackson Rd. Ste#203\, San Antonio\, TX\, 78230\, United States
CATEGORIES:Other
END:VEVENT
END:VCALENDAR