BEGIN:VCALENDAR
VERSION:2.0
PRODID:-//peaceCENTER - ECPv4.6.13//NONSGML v1.0//EN
CALSCALE:GREGORIAN
METHOD:PUBLISH
X-WR-CALNAME:peaceCENTER
X-ORIGINAL-URL:http://www.sanantoniopeace.center
X-WR-CALDESC:Events for peaceCENTER
BEGIN:VEVENT
DTSTART;TZID=America/Chicago:20150131T190000
DTEND;TZID=America/Chicago:20150131T230000
DTSTAMP:20260425T162342
CREATED:20150110T233516Z
LAST-MODIFIED:20150110T233516Z
UID:2020-1422730800-1422745200@www.sanantoniopeace.center
SUMMARY:Inner City Development's Country Dance and Silent Auction in Quihi
DESCRIPTION: \nInner City Development’s Country Dance and Silent Auction in Quihi\, Texas\, just beyond Castroville at the Quihi Dance Hall–Saturday\, Jan. 31\, 7:00pm to 11:00pm. Band retirement: LAST GIG FOR THE MEDINA MUD BAND after 23 years of supporting ICD!! Come out and express a big thank you! We’ll also have Maury Maverick Chili\, tamales\, desserts\, and great auction items! $8.00 admission to help buy a new van for the children’s programs at ICD. \n  \n
URL:http://www.sanantoniopeace.center/event/inner-city-developments-country-dance-and-silent-auction-in-quihi/
LOCATION:CR 4517\, Quihi\, TX\, United States
END:VEVENT
END:VCALENDAR