BEGIN:VCALENDAR
VERSION:2.0
PRODID:-//peaceCENTER - ECPv4.6.13//NONSGML v1.0//EN
CALSCALE:GREGORIAN
METHOD:PUBLISH
X-WR-CALNAME:peaceCENTER
X-ORIGINAL-URL:http://www.sanantoniopeace.center
X-WR-CALDESC:Events for peaceCENTER
BEGIN:VEVENT
DTSTART;TZID=America/Chicago:20151212T083000
DTEND;TZID=America/Chicago:20151212T150000
DTSTAMP:20260425T135051
CREATED:20151103T110145Z
LAST-MODIFIED:20151103T110145Z
UID:4893-1449909000-1449932400@www.sanantoniopeace.center
SUMMARY:Inner City Development Toy Drive
DESCRIPTION:Sunday\, Dec\, 13\, 2015\, Inner City Development turns into a Toy Department Store for the Neighbors around the Alazan-Apache courts\, where many families live on less than $9\,000 a year. \nThe Inner City Toy Store will sell new toys at a 90% discount\, so that parents may have the dignity of selecting toys for their children. We need your help collecting toys ! ! ! \nWe ask for New\, Traditional\, Non-Violent Toys\, under $12.00. \nPlease DELIVER THE TOYS TO INNER CITY\nSATURDAY\, DEC. 12TH\n8:30 AM to 3:00 PM\nand\, if you wish\, stay & help by\nsorting & pricing the toys ! ! ! \n
URL:http://www.sanantoniopeace.center/event/inner-city-development-toy-drive/
LOCATION:1300 Chihuahua\, San Antonio\, TX\, 78207\, United States
END:VEVENT
END:VCALENDAR