BEGIN:VCALENDAR
VERSION:2.0
PRODID:-//peaceCENTER - ECPv4.6.13//NONSGML v1.0//EN
CALSCALE:GREGORIAN
METHOD:PUBLISH
X-WR-CALNAME:peaceCENTER
X-ORIGINAL-URL:http://www.sanantoniopeace.center
X-WR-CALDESC:Events for peaceCENTER
BEGIN:VEVENT
DTSTART;TZID=America/Chicago:20161106T160000
DTEND;TZID=America/Chicago:20161106T190000
DTSTAMP:20260425T143522
CREATED:20161103T110315Z
LAST-MODIFIED:20161103T110315Z
UID:8972-1478448000-1478458800@www.sanantoniopeace.center
SUMMARY:***In New Braunfels***  Peace Begins with Me\, with Arun Gandhi
DESCRIPTION: \n\n\nJoin Arun Gandhi and Unity of New Braunfels for an evening of art\, music\, and inspiration. \nArun Gandhi\, grandson of the great Mahatma Gandhi\, is coming to New Braunfels the Sunday before Election Day to deliver an inspiring talk on peace\, nonviolence\, and his grandfather’s legacy. The event will also feature acclaimed children’s author Bethany Hegedus\, music from Ron Brietzke and the Wanderin’ Souls\, and art from some of the Hill Country’s best local artists. \nArun Gandhi and Bethany Hegedus will be holding a book signing at the conclusion of the event. \nAdditional parking available at no charge at the Brauntex Theatre and Miller & Miller Insurance. \n\n\n
URL:http://www.sanantoniopeace.center/event/in-new-braunfels-peace-begins-with-me-with-arun-gandhi/
LOCATION:265 West San Antonio Street \, New Braunfels\, TX\, 78130\, United States
CATEGORIES:Other
END:VEVENT
END:VCALENDAR