BEGIN:VCALENDAR
VERSION:2.0
PRODID:-//peaceCENTER - ECPv4.6.13//NONSGML v1.0//EN
CALSCALE:GREGORIAN
METHOD:PUBLISH
X-WR-CALNAME:peaceCENTER
X-ORIGINAL-URL:http://www.sanantoniopeace.center
X-WR-CALDESC:Events for peaceCENTER
BEGIN:VEVENT
DTSTART;TZID=America/Chicago:20160803T180000
DTEND;TZID=America/Chicago:20160803T200000
DTSTAMP:20260425T192304
CREATED:20160723T032452Z
LAST-MODIFIED:20160723T032452Z
UID:8189-1470247200-1470254400@www.sanantoniopeace.center
SUMMARY:In Memory of Elie Wiesel @ the SA Holocaust Memorial Museum
DESCRIPTION: \n
URL:http://www.sanantoniopeace.center/event/in-memory-of-elie-wiesel-the-sa-holocaust-memorial-museum/
LOCATION:12500 N.W. Military Drive\, San Antonio\, TX\, 78231\, United States
CATEGORIES:Other
END:VEVENT
END:VCALENDAR