BEGIN:VCALENDAR
VERSION:2.0
PRODID:-//peaceCENTER - ECPv4.6.13//NONSGML v1.0//EN
CALSCALE:GREGORIAN
METHOD:PUBLISH
X-WR-CALNAME:peaceCENTER
X-ORIGINAL-URL:http://www.sanantoniopeace.center
X-WR-CALDESC:Events for peaceCENTER
BEGIN:VEVENT
DTSTART;TZID=America/Chicago:20150627T110000
DTEND;TZID=America/Chicago:20150627T130000
DTSTAMP:20260424T212647
CREATED:20150625T215332Z
LAST-MODIFIED:20150625T215332Z
UID:3457-1435402800-1435410000@www.sanantoniopeace.center
SUMMARY:IN KENEDY: Dedication of Historical Marker\, Farmworkers March
DESCRIPTION: \nThe Rio Texas Conference of the United Methodist Church will be commemorating the 50th anniversary of the 1966 Valley Farm Workers’ Union 400-mile march to the State Capitol this Saturday. They will also be celebrating the induction of a Texas Historical Marker at El Buen Samaritano United Methodist Church\, Kenedy\, TX for its involvement in the march. \nThe 400-mile march stopped at El Buen Samaritano United Methodist Church in August 1966. They were invited by Rev. Isabel Gómez\, (pastor of El Buen Samaritano) and Rev. Roy Fisher (pastor of First United Methodist Church\, Kenedy)\, for a brief service of scripture and worship. It was the only protestant church that welcomed the marchers. After stopping at Kenedy\, they also stopped at the Alamo in San Antonio and met Cesar Chavez at the Capitol in September 1966. \n“We are going to memorialize the people that died for that march\,” said Retired Bishop Joel Martinez. “They put hard work into raising that cause for higher wages and better working conditions. We must not forget them.” \nThe celebration this Saturday will include a service of remembrance and thanksgiving. Speakers include Rev. Isabel Gómez\, Doris Hudspeth Miller (widow of Rev. Roy Fisher)\, Retired Bishop Joel Martinez (former Bishop of the San Antonio Episcopal Area from 2000 – 2008) and Bishop James E. Dorff (San Antonio Episcopal Area Bishop). A fellowship luncheon will follow the worship service. \nThis open event will take place at El Buen Samaritano United Methodist Church in Kenedy\, TX (249 Booe St.\, 78119) this Saturday\, June 27 starting at 11 a.m. \n
URL:http://www.sanantoniopeace.center/event/in-kenedy-dedication-of-historical-marker-farmworkers-march/
LOCATION:249 Booe St\, Kenedy\, TX\, 78119\, United States
END:VEVENT
END:VCALENDAR