BEGIN:VCALENDAR
VERSION:2.0
PRODID:-//peaceCENTER - ECPv4.6.13//NONSGML v1.0//EN
CALSCALE:GREGORIAN
METHOD:PUBLISH
X-WR-CALNAME:peaceCENTER
X-ORIGINAL-URL:http://www.sanantoniopeace.center
X-WR-CALDESC:Events for peaceCENTER
BEGIN:VEVENT
DTSTART;TZID=America/Chicago:20180221T180000
DTEND;TZID=America/Chicago:20180221T200000
DTSTAMP:20260424T212720
CREATED:20180124T120716Z
LAST-MODIFIED:20180124T120716Z
UID:12065-1519236000-1519243200@www.sanantoniopeace.center
SUMMARY:In Her Shoes: Living With Domestic Violence
DESCRIPTION:“In Her Shoes” interactive learning simulation – participants move\, do\, think and experience the lives of battered women. Travel around the room as you make choices that may impact your life and the life of your children and experience what it’s like to be a survivor of domestic violence at the many stations. \n \n
URL:http://www.sanantoniopeace.center/event/in-her-shoes-living-with-domestic-violence/
LOCATION:411 S.W. 24th St.\, San Antonio\, TX\, 78207\, United States
END:VEVENT
END:VCALENDAR