BEGIN:VCALENDAR
VERSION:2.0
PRODID:-//peaceCENTER - ECPv4.6.13//NONSGML v1.0//EN
CALSCALE:GREGORIAN
METHOD:PUBLISH
X-WR-CALNAME:peaceCENTER
X-ORIGINAL-URL:http://www.sanantoniopeace.center
X-WR-CALDESC:Events for peaceCENTER
BEGIN:VEVENT
DTSTART;TZID=America/Chicago:20160913T093000
DTEND;TZID=America/Chicago:20160913T130000
DTSTAMP:20260425T165524
CREATED:20160830T004429Z
LAST-MODIFIED:20160830T004429Z
UID:8530-1473759000-1473771600@www.sanantoniopeace.center
SUMMARY:***IN AUSTIN ***  #RejectTheText Rally
DESCRIPTION: \nJoin the Responsible Ethnic Studies Textbook Coalition on Tuesday\, Sept. 13\, as we rally to call on the Texas State Board of Education to #RejectTheText. Following the rally\, the board will meet to hear from the public on the proposed Mexican-American studies textbook that scholars and experts have said is deeply offensive\, full of errors and offers a simplistic and distorted portrait of Mexican-Americans. \nFeatured rally speakers will include academics and scholars\, elected officials from the Texas Legislature\, activists and representatives from REST Coalition members. \nInterested in testifying at the board meeting? The registration period for those wishing to testify will open soon. Info: http://bit.ly/1EWpFxc \n Parking information for the rally:\nStreet parking at meters – bring coins as credit card machines may not be available. Paid parking at the Bob Bullock Museum (1800 N Congress Ave) for $8 / day. \nTo learn more about the textbook and why it should be rejected\, as well as how to take action if you’re unable to come to Austin for the rally\, visit MASforTexas.org. \n
URL:http://www.sanantoniopeace.center/event/in-austin-rejectthetext-rally/
LOCATION:1701 N. Congress\, Austin\, TX\, 78701\, United States
CATEGORIES:Other
END:VEVENT
END:VCALENDAR