BEGIN:VCALENDAR
VERSION:2.0
PRODID:-//peaceCENTER - ECPv4.6.13//NONSGML v1.0//EN
CALSCALE:GREGORIAN
METHOD:PUBLISH
X-WR-CALNAME:peaceCENTER
X-ORIGINAL-URL:http://www.sanantoniopeace.center
X-WR-CALDESC:Events for peaceCENTER
BEGIN:VEVENT
DTSTART;TZID=America/Chicago:20150310T153000
DTEND;TZID=America/Chicago:20150310T200000
DTSTAMP:20260425T135623
CREATED:20150308T143348Z
LAST-MODIFIED:20150308T143348Z
UID:2622-1426001400-1426017600@www.sanantoniopeace.center
SUMMARY:Immigration Call-in to Lawyers -- Executive Action
DESCRIPTION: \nU.S. Rep. Lloyd Doggett will be hosting an immigration “telephone townhall” with Univision-San Antonio on Tuesday\, March 10. If you have immigration questions\, including steps families can take to qualify\, call in and speak with experienced attorneys. \nHabrá un banco telefónico de inmigración con Univision-San Antonio el martes\, 10 de marzo. Si tiene preguntas de inmigración\, incluyendo pasos que familias pueden tomar para calificar\, llame para hablar con abogados con experiencia. \n
URL:http://www.sanantoniopeace.center/event/immigration-call-in-to-lawyers-executive-action/
END:VEVENT
END:VCALENDAR