BEGIN:VCALENDAR
VERSION:2.0
PRODID:-//peaceCENTER - ECPv4.6.13//NONSGML v1.0//EN
CALSCALE:GREGORIAN
METHOD:PUBLISH
X-WR-CALNAME:peaceCENTER
X-ORIGINAL-URL:http://www.sanantoniopeace.center
X-WR-CALDESC:Events for peaceCENTER
BEGIN:VEVENT
DTSTART;TZID=America/Chicago:20161026T163000
DTEND;TZID=America/Chicago:20161026T180000
DTSTAMP:20260425T112551
CREATED:20161019T213453Z
LAST-MODIFIED:20161019T213453Z
UID:8913-1477499400-1477504800@www.sanantoniopeace.center
SUMMARY:Image of the Enemy Film Screening
DESCRIPTION:Image of the Enemy is a documentary of Palestinians and Israelis made by Dr. Leo Lopez \, Homero Salinas Jr.\, and Dr. Aaron Tyler. Discussion of methods to help all to compassionate listening. \n \n
URL:http://www.sanantoniopeace.center/event/image-of-the-enemy-film-screening/
LOCATION:4301 Broadway\, San Antonio\, TX\, 78209\, United States
CATEGORIES:Other
END:VEVENT
END:VCALENDAR