BEGIN:VCALENDAR
VERSION:2.0
PRODID:-//peaceCENTER - ECPv4.6.13//NONSGML v1.0//EN
CALSCALE:GREGORIAN
METHOD:PUBLISH
X-WR-CALNAME:peaceCENTER
X-ORIGINAL-URL:http://www.sanantoniopeace.center
X-WR-CALDESC:Events for peaceCENTER
BEGIN:VEVENT
DTSTART;TZID=America/Chicago:20170730T180000
DTEND;TZID=America/Chicago:20170730T190000
DTSTAMP:20260425T030703
CREATED:20170729T180632Z
LAST-MODIFIED:20170729T180632Z
UID:10899-1501437600-1501441200@www.sanantoniopeace.center
SUMMARY:I Am Your Voice Vigil
DESCRIPTION:\nIn the wake of the immigrant lives lost and those left to parish. Let’s come together as one community one voice to pray for their suffering and speak out for them. Is it not enough that they suffered horrifically and others among them died. Now they are at risk of being deported back to the very place they tried to leave. Let’s join hands and voices Sunday night at 6pm on the steps of City Hall. \n
URL:http://www.sanantoniopeace.center/event/i-am-your-voice-vigil/
LOCATION:100 Military Plaza\, San Antonio\, TX\, United States
CATEGORIES:Other
END:VEVENT
END:VCALENDAR