BEGIN:VCALENDAR
VERSION:2.0
PRODID:-//peaceCENTER - ECPv4.6.13//NONSGML v1.0//EN
CALSCALE:GREGORIAN
METHOD:PUBLISH
X-WR-CALNAME:peaceCENTER
X-ORIGINAL-URL:http://www.sanantoniopeace.center
X-WR-CALDESC:Events for peaceCENTER
BEGIN:VEVENT
DTSTART;TZID=America/Chicago:20160116T140000
DTEND;TZID=America/Chicago:20160116T163000
DTSTAMP:20260425T130518
CREATED:20160102T135532Z
LAST-MODIFIED:20160102T135532Z
UID:5939-1452952800-1452961800@www.sanantoniopeace.center
SUMMARY:I Am Not My Skin: Film Screening of “Dark Girls”
DESCRIPTION:Screening of “Dark Girls” followed by a dialogue\, reception\, art exhibition\, and spoken word by poet\, Chante Cepeda. Dark Girls is a fascinating and controversial documentary film that goes underneath the surface to explore the prejudices that dark-skinned women face throughout the world. It explores the roots of classism\, racism and the lack of self-esteem within a segment of cultures that span from America to the most remote corners of the globe. Women share their personal stories\, touching on deeply ingrained beliefs and attitudes of society\, while allowing generations to heal as they learn to love themselves for who they are. \n
URL:http://www.sanantoniopeace.center/event/i-am-not-my-skin-film-screening-of-dark-girls/
LOCATION:801 N. Olive St\, San Antonio\, TX\, 78212\, United States
END:VEVENT
END:VCALENDAR