BEGIN:VCALENDAR
VERSION:2.0
PRODID:-//peaceCENTER - ECPv4.6.13//NONSGML v1.0//EN
CALSCALE:GREGORIAN
METHOD:PUBLISH
X-WR-CALNAME:peaceCENTER
X-ORIGINAL-URL:http://www.sanantoniopeace.center
X-WR-CALDESC:Events for peaceCENTER
BEGIN:VEVENT
DTSTART;TZID=America/Chicago:20160621T130000
DTEND;TZID=America/Chicago:20160621T160000
DTSTAMP:20260425T202956
CREATED:20160610T033850Z
LAST-MODIFIED:20160610T033850Z
UID:7215-1466514000-1466524800@www.sanantoniopeace.center
SUMMARY:Human Trafficking: The Role of Social Service Providers
DESCRIPTION: \n
URL:http://www.sanantoniopeace.center/event/human-trafficking-the-role-of-social-service-providers/
LOCATION:411 S.W. 24th St.\, San Antonio\, TX\, 78207\, United States
CATEGORIES:Other
END:VEVENT
END:VCALENDAR