BEGIN:VCALENDAR
VERSION:2.0
PRODID:-//peaceCENTER - ECPv4.6.13//NONSGML v1.0//EN
CALSCALE:GREGORIAN
METHOD:PUBLISH
X-WR-CALNAME:peaceCENTER
X-ORIGINAL-URL:http://www.sanantoniopeace.center
X-WR-CALDESC:Events for peaceCENTER
BEGIN:VEVENT
DTSTART;TZID=America/Chicago:20160118T180000
DTEND;TZID=America/Chicago:20160118T200000
DTSTAMP:20260425T134034
CREATED:20160102T140657Z
LAST-MODIFIED:20160102T140657Z
UID:5945-1453140000-1453147200@www.sanantoniopeace.center
SUMMARY:How far have we come?  -- The Voting Rights Act
DESCRIPTION:The Voting Rights Act was a means to overcome a legal barrier that prevented communities of color from voting but 50 years after it was signed into law\, efforts are still being made to prevent these same communities from participating and even being counted. From gerrymandering\, to new id laws\, how far have we come to be active participants in the democratic process? \n
URL:http://www.sanantoniopeace.center/event/how-far-have-we-come-the-voting-rights-act/
LOCATION:1412 E Commerce St\, San Antonio\, TX\, 78205\, United States
END:VEVENT
END:VCALENDAR