BEGIN:VCALENDAR
VERSION:2.0
PRODID:-//peaceCENTER - ECPv4.6.13//NONSGML v1.0//EN
CALSCALE:GREGORIAN
METHOD:PUBLISH
X-WR-CALNAME:peaceCENTER
X-ORIGINAL-URL:http://www.sanantoniopeace.center
X-WR-CALDESC:Events for peaceCENTER
BEGIN:VEVENT
DTSTART;TZID=America/Chicago:20160305T090000
DTEND;TZID=America/Chicago:20160305T130000
DTSTAMP:20260425T114954
CREATED:20160225T122230Z
LAST-MODIFIED:20160225T122230Z
UID:6516-1457168400-1457182800@www.sanantoniopeace.center
SUMMARY:Girls Global Citizenship Summit
DESCRIPTION:What does it mean to be a global citizen? Teams of school-age girls lead us in a fun half-day in exploring that question. Expand your horizons by immersing yourself in the issues facing girls and women around the globe. Whether you’re a community leader\, mom\, teacher or mentor… or …a girl just getting a sense of the larger world… THIS event is for you! No cost to attend\, lunch provided. Best suited for middle- and high-school ages. \nArticle in the Express-News:  S.A. girls gathering to learn global citizenship \n
URL:http://www.sanantoniopeace.center/event/girls-global-citizenship-summit/
LOCATION:847 E. Hildebrand\, San Antonio\, TX\, 78209\, United States
END:VEVENT
END:VCALENDAR