BEGIN:VCALENDAR
VERSION:2.0
PRODID:-//peaceCENTER - ECPv4.6.13//NONSGML v1.0//EN
CALSCALE:GREGORIAN
METHOD:PUBLISH
X-WR-CALNAME:peaceCENTER
X-ORIGINAL-URL:http://www.sanantoniopeace.center
X-WR-CALDESC:Events for peaceCENTER
BEGIN:VEVENT
DTSTART;TZID=America/Chicago:20150210T190000
DTEND;TZID=America/Chicago:20150210T210000
DTSTAMP:20260425T135212
CREATED:20150206T133356Z
LAST-MODIFIED:20150206T133356Z
UID:2330-1423594800-1423602000@www.sanantoniopeace.center
SUMMARY:Gentrification Town Hall Meeting
DESCRIPTION:The University of Texas at San Antonio and the San Antonio Express-News will host a town hall meeting on gentrification and inner-city revitalization February 10 from 7:00 to 8:30 p.m. at the UTSA Downtown Campus.  The event is free and open to the public.  Organizers ask that attendees RSVP by sending an email to letters@express-news.net. \nThe event brings together distinguished experts including UTSA’s Center for Cultural Sustainability Director William Dupont\, as well as former City Councilwoman Maria Berriozábal; Richard Gambitta\, the former director of the UTSA Institute for Law and Public Affairs; and Ramiro A. Cavazos\, president and CEO of the San Antonio Hispanic Chamber of Commerce for a panel discussion providing a thorough examination of this timely topic. The panel will also take questions from the audience. Francine Romero\, associate dean of UTSA’s College of Public Policy\, will moderate the discussion. \n\nTICKETS: The town hall is free and open to the public. Please RSVP to letters@express-news.net\n\n
URL:http://www.sanantoniopeace.center/event/gentrification-town-hall-meeting/
LOCATION:501 W. César E. Chávez Blvd.\, San Antonio\, TX\, United States
ORGANIZER;CN="UTSA%20College%20of%20Architecture%20Center%20for%20Sustainability%20%26%20The%20San%20Antonio%20Express-News":MAILTO:letters@express-news.net
END:VEVENT
END:VCALENDAR