BEGIN:VCALENDAR
VERSION:2.0
PRODID:-//peaceCENTER - ECPv4.6.13//NONSGML v1.0//EN
CALSCALE:GREGORIAN
METHOD:PUBLISH
X-WR-CALNAME:peaceCENTER
X-ORIGINAL-URL:http://www.sanantoniopeace.center
X-WR-CALDESC:Events for peaceCENTER
BEGIN:VEVENT
DTSTART;TZID=America/Chicago:20161015T190000
DTEND;TZID=America/Chicago:20161015T210000
DTSTAMP:20260425T163412
CREATED:20161015T142935Z
LAST-MODIFIED:20161015T142935Z
UID:8859-1476558000-1476565200@www.sanantoniopeace.center
SUMMARY:Galeria EVA presents: Poetry Night for Sor Juana
DESCRIPTION: \nGaleria EVA invites you to join us in a night of commemorating 321 years since the death of Sor Juana Ines de la Cruz who is known as the epitome of Hispanic American literature from the 17th century. \nWe we will be featuring 4 very accomplished women of color\, poets\, luminaries in literature. \nAlicia Gaspar de Alba\nNorma E. Cantú\nRita E. Urquijo-Ruiz\nBarbara Renaud Gonzalez\n\nAfterwards we will be opening the mic for local poets to share their works. \n
URL:http://www.sanantoniopeace.center/event/galeria-eva-presents-poetry-night-for-sor-juana-2/
LOCATION:3412 S. Flores\, San Antonio\, TX\, 78204\, United States
CATEGORIES:Other
END:VEVENT
END:VCALENDAR