BEGIN:VCALENDAR
VERSION:2.0
PRODID:-//peaceCENTER - ECPv4.6.13//NONSGML v1.0//EN
CALSCALE:GREGORIAN
METHOD:PUBLISH
X-WR-CALNAME:peaceCENTER
X-ORIGINAL-URL:http://www.sanantoniopeace.center
X-WR-CALDESC:Events for peaceCENTER
BEGIN:VEVENT
DTSTART;TZID=America/Chicago:20160524T180000
DTEND;TZID=America/Chicago:20160524T193000
DTSTAMP:20260425T214535
CREATED:20160521T145424Z
LAST-MODIFIED:20160521T145424Z
UID:7003-1464112800-1464118200@www.sanantoniopeace.center
SUMMARY:From the Killing Fields to the White House: The American Dream in First Person
DESCRIPTION:Captured and forced to perform slave labor by Khmer Rouge officials\, Sichan Siv feared that he would be worked to death or killed. It was only a matter of time. But he never abandoned hope or his improbable dream of freedom – a dream that liberated him\, astonishingly\, from his brutal captors and ultimately led him to the United States\, where he later became a senior White House aide and ambassador to the United Nations. \n
URL:http://www.sanantoniopeace.center/event/from-the-killing-fields-to-the-white-house-the-american-dream-in-first-person/
LOCATION:3134 Roosevelt Ave.\, San Antonio\, TX\, 78214\, United States
CATEGORIES:Other
END:VEVENT
END:VCALENDAR