BEGIN:VCALENDAR
VERSION:2.0
PRODID:-//peaceCENTER - ECPv4.6.13//NONSGML v1.0//EN
CALSCALE:GREGORIAN
METHOD:PUBLISH
X-WR-CALNAME:peaceCENTER
X-ORIGINAL-URL:http://www.sanantoniopeace.center
X-WR-CALDESC:Events for peaceCENTER
BEGIN:VEVENT
DTSTART;TZID=America/Chicago:20170625T120000
DTEND;TZID=America/Chicago:20170625T130000
DTSTAMP:20260425T014908
CREATED:20170620T012524Z
LAST-MODIFIED:20170620T012524Z
UID:10509-1498392000-1498395600@www.sanantoniopeace.center
SUMMARY:From The Ashes Film Screening
DESCRIPTION: \nCan we improve the health our communities\, increase economic security for all families\, and preserve our planet for future generations? \nFrom the Ashes\, a new film by produced by RadicalMedia in partnership with Bloomberg Philanthropies captures Americans in communities across the country as they wrestle with the legacy of the coal industry\, and what its future might be under the Trump Administration. \nAttend a special preview of the film\, in advance of the National Geographic global broadcast premiere. Discuss what we can do to protect our families\, our communities\, and the nation as we move beyond coal. Please RSVP to lorelei.lambert@yahoo.com . Light refreshments provided. For childcare\, please RSVP by noon on Thursday\, June 22. \n \n
URL:http://www.sanantoniopeace.center/event/from-the-ashes-film-screening/
LOCATION:7150 IH 10 W\, San Antonio\, TX\, United States
CATEGORIES:Other
END:VEVENT
END:VCALENDAR