BEGIN:VCALENDAR
VERSION:2.0
PRODID:-//peaceCENTER - ECPv4.6.13//NONSGML v1.0//EN
CALSCALE:GREGORIAN
METHOD:PUBLISH
X-WR-CALNAME:peaceCENTER
X-ORIGINAL-URL:http://www.sanantoniopeace.center
X-WR-CALDESC:Events for peaceCENTER
BEGIN:VEVENT
DTSTART;TZID=America/Chicago:20150210T080000
DTEND;TZID=America/Chicago:20150210T170000
DTSTAMP:20260425T124025
CREATED:20141226T172320Z
LAST-MODIFIED:20141226T172320Z
UID:1838-1423555200-1423587600@www.sanantoniopeace.center
SUMMARY:Freedom Riders Part 2: Created Equal Film Series @ NW Lakeview
DESCRIPTION:\n\nPlease join us for the screening of “Freedom Riders”\, an award winning documentary that tells the story behind a courageous band of civil rights activists called Freedom Riders who in 1961 challenged segregation in the American South. The film\, part of our Created Equal Film series\, will be shown in the Northeast Lakeview College Performing Arts Theater\, on a LARGE screen – part one on February 3 and part two on February 10\, 2015\, starting at 6:30 p.m. on both days. The screening will be followed by scholar and community panel let conversation about the changing meaning of equality in the United States and the events surrounding the Freedom Riders time period. \nParking is open and the movie is free to the public. Refreshments will be served at 6:00 p.m. \n
URL:http://www.sanantoniopeace.center/event/freedom-riders-part-2-created-equal-film-series-nw-lakeview/
LOCATION:1201 Kitty Hawk Rd. \, Universal City\, TX\, 78148\, United States
END:VEVENT
END:VCALENDAR