BEGIN:VCALENDAR
VERSION:2.0
PRODID:-//peaceCENTER - ECPv4.6.13//NONSGML v1.0//EN
CALSCALE:GREGORIAN
METHOD:PUBLISH
X-WR-CALNAME:peaceCENTER
X-ORIGINAL-URL:http://www.sanantoniopeace.center
X-WR-CALDESC:Events for peaceCENTER
BEGIN:VEVENT
DTSTART;TZID=America/Chicago:20170617T100000
DTEND;TZID=America/Chicago:20170617T120000
DTSTAMP:20260425T042230
CREATED:20170601T023720Z
LAST-MODIFIED:20170601T023720Z
UID:10428-1497693600-1497700800@www.sanantoniopeace.center
SUMMARY:Free Speech Coalition Community Meeting
DESCRIPTION:\nSaturday May 20\, The Esperanza Peace & Justice Center held a workshop about the San Antonio ordinances limiting free speech and access to public gatherings on streets\, sidewalks and in the airport. There was interest and energy from the community members who showed up to revive the Free Speech Coalition and to start organizing once again against these ordinances. There has been a City Council Consideration Request filed to re-examine those ordinances. BUT we as community decided that WE need to be the ones coming up with changes to/a new ordinance. \nThere is a community sub-committee meeting weekly to work on drafting a new ordinance. If you are interested in joining please call yhem at (210) 228-0201 or email esperanza@esperanzacenter.org. \nJoin us for a community update meeting Saturday June 17\, starting at 10 AM at the Esperanza\, 922 San Pedro Ave. \n
URL:http://www.sanantoniopeace.center/event/free-speech-coalition-community-meeting/
LOCATION:922 San Pedro\, San Antonio\, TX\, United States
CATEGORIES:Other
END:VEVENT
END:VCALENDAR