BEGIN:VCALENDAR
VERSION:2.0
PRODID:-//peaceCENTER - ECPv4.6.13//NONSGML v1.0//EN
CALSCALE:GREGORIAN
METHOD:PUBLISH
X-WR-CALNAME:peaceCENTER
X-ORIGINAL-URL:http://www.sanantoniopeace.center
X-WR-CALDESC:Events for peaceCENTER
BEGIN:VEVENT
DTSTART;TZID=America/Chicago:20150215T110000
DTEND;TZID=America/Chicago:20150215T130000
DTSTAMP:20260425T135126
CREATED:20150124T144434Z
LAST-MODIFIED:20150124T161316Z
UID:2182-1423998000-1424005200@www.sanantoniopeace.center
SUMMARY:Free Lucky the Elephant Protest
DESCRIPTION: \nJoin One World Conservation\, In Defense of Animals\, Protest to Free Lucky the Elephant\, The Hailey Foundation\, Voice for Animals\, S.A.V.E\, and the Seaworld group in a joint event on February 15\, 2015\, at 11:00am-1:00pm for Lucky. We are pleased to announce that this event will be a show of solidarity at the start of the new year between all of the organizations and people working together for Lucky\, as we had to cancel the January event due to bad weather. We’ll be meeting in the train depot parking lot at the San Antonio Zoo. \nLet’s make this her greatest event ever and make this Lucky’s year. \nPlease wear pink in theme with Valentine’s day. We’re hoping that our new Freedom Elephant mascot will have arrived (it’s pink\, as that is Lucky’s campaign color!) and will be perfect for the February protest. \nWe’ll have the Freedom Elephant on the grounds\, as well as literature and posters provided\, but feel free to bring your own if you’d like. Be sure to bring plenty of water! \nWe’re looking forward to seeing everybody come together for Lucky. This is a family friendly event\, so children are more than welcome to join in! Again\, this is an important protest to make it out. Please send this out to EVERYONE you know. \n \n
URL:http://www.sanantoniopeace.center/event/free-lucky-the-elephant-protest/
LOCATION:3903 N. St. Mary's\, San Antonio\, TX\, 78212\, United States
ORGANIZER;CN="One%20World%20Conservation":MAILTO:info@oneworld.org
END:VEVENT
END:VCALENDAR