BEGIN:VCALENDAR
VERSION:2.0
PRODID:-//peaceCENTER - ECPv4.6.13//NONSGML v1.0//EN
CALSCALE:GREGORIAN
METHOD:PUBLISH
X-WR-CALNAME:peaceCENTER
X-ORIGINAL-URL:http://www.sanantoniopeace.center
X-WR-CALDESC:Events for peaceCENTER
BEGIN:VEVENT
DTSTART;TZID=America/Chicago:20141031T100000
DTEND;TZID=America/Chicago:20141031T170000
DTSTAMP:20260425T190726
CREATED:20141019T034117Z
LAST-MODIFIED:20141019T034117Z
UID:374-1414749600-1414774800@www.sanantoniopeace.center
SUMMARY:Free Friday Films @ Palo Alto
DESCRIPTION:Part of Palo Alto College’s Native American / Hispanic Heritage Month. All events are free and open to the public. [Palo Alto College Campus Map] \n\n 11:00am The Last Conquistador\n1:00pm As Long as I Remember: American Veteranos\n2:00pm Raul Salinas and the Poetry of Liberation\n2:10pm  Discussion w/ American Veteranos Producer Laura Varela and Eduardo Cavazos Garza\, Vietnam veteran\n2:50pm Inocente\n3:35pm César Chávez\n\n
URL:http://www.sanantoniopeace.center/event/free-friday-films-palo-alto/
LOCATION:1400 W. Villaret Blvd.\, San Antonio\, TX\, 78224\, United States
END:VEVENT
END:VCALENDAR