BEGIN:VCALENDAR
VERSION:2.0
PRODID:-//peaceCENTER - ECPv4.6.13//NONSGML v1.0//EN
CALSCALE:GREGORIAN
METHOD:PUBLISH
X-WR-CALNAME:peaceCENTER
X-ORIGINAL-URL:http://www.sanantoniopeace.center
X-WR-CALDESC:Events for peaceCENTER
BEGIN:VEVENT
DTSTART;TZID=America/Chicago:20160111T180000
DTEND;TZID=America/Chicago:20160111T213000
DTSTAMP:20260425T152115
CREATED:20160101T140955Z
LAST-MODIFIED:20160101T140955Z
UID:5903-1452535200-1452547800@www.sanantoniopeace.center
SUMMARY:Free Film Showing: Selma
DESCRIPTION:The San Antonio Martin Luther King\, Jr. Commission presents a screening of the 2014 film “Selma\,” directed by Ava DuVernay and starring Oprah Winfrey and David Oyelowo. The film chronicles Dr. King’s campaign for equal voting rights\, including the historic march from Selma to Montgomery\, Alabama in 1965. Immediately following the film screening\, Peggy Wallace Kennedy\, daughter of former Alabama Governor George C. Wallace\, will share her personal journey to redemption and her first-hand account of race and politics \nSeating is limited. Free tickets available only at www.universe.com/mlkcommissionfilmseries2016 \n
URL:http://www.sanantoniopeace.center/event/free-film-showing-selma/
LOCATION:226 N. Hackberry\, San Antonio\, TX\, 78202\, United States
END:VEVENT
END:VCALENDAR