BEGIN:VCALENDAR
VERSION:2.0
PRODID:-//peaceCENTER - ECPv4.6.13//NONSGML v1.0//EN
CALSCALE:GREGORIAN
METHOD:PUBLISH
X-WR-CALNAME:peaceCENTER
X-ORIGINAL-URL:http://www.sanantoniopeace.center
X-WR-CALDESC:Events for peaceCENTER
BEGIN:VEVENT
DTSTART;TZID=America/Chicago:20150816T150000
DTEND;TZID=America/Chicago:20150816T170000
DTSTAMP:20260424T224724
CREATED:20150701T235417Z
LAST-MODIFIED:20150701T235417Z
UID:3569-1439737200-1439744400@www.sanantoniopeace.center
SUMMARY:Free Film Showing 1915: The Movie w/San Antonians Against Genocide
DESCRIPTION: \nSan Antonians Against Genocide will be showing the film “1915: The Movie” \nIn 2015\, exactly 100 years after the Armenian Genocide\, a mysterious director (Simon) is staging a play at the Los Angeles Theatre to honor the victims of that tragedy — a horrifying crime forgotten and denied for an entire century. But as protesters surround his theatre\, and a series of strange accidents spread panic among his actors\, it appears that Simon’s mission is profoundly dangerous — and the ghosts of the past are everywhere.\nhttp://www.1915themovie.com/ \nFREE AND OPEN TO THE PUBLIC \n
URL:http://www.sanantoniopeace.center/event/free-film-showing-1915-the-movie-wsan-antonians-against-genocide/
LOCATION:300 Bushnell\, San Antonio\, TX\, 78212\, United States
END:VEVENT
END:VCALENDAR